BEGIN:VCALENDAR
VERSION:2.0
PRODID:-//wp-events-plugin.com//7.2.3.1//EN
BEGIN:VEVENT
UID:4558@rehetobel-tourismus.ch
DTSTART;TZID=Europe/Zurich:20241031T193000
DTEND;TZID=Europe/Zurich:20241031T193000
DTSTAMP:20231219T141746Z
URL:https://www.rehetobel-tourismus.ch/wp/events/zfade-schlo-jahresprogram
 m-2025/
SUMMARY:z'Fade schlo (Jahresprogramm 2025)
DESCRIPTION:
END:VEVENT
BEGIN:VTIMEZONE
TZID:Europe/Zurich
X-LIC-LOCATION:Europe/Zurich
BEGIN:STANDARD
DTSTART:20241027T020000
TZOFFSETFROM:+0200
TZOFFSETTO:+0100
TZNAME:CET
END:STANDARD
END:VTIMEZONE
END:VCALENDAR