BEGIN:VCALENDAR
VERSION:2.0
PRODID:-//wp-events-plugin.com//7.2.3.1//EN
BEGIN:VEVENT
UID:2532@rehetobel-tourismus.ch
DTSTART;TZID=Europe/Zurich;VALUE=DATE:20190716
DTEND;TZID=Europe/Zurich;VALUE=DATE:20190717
DTSTAMP:20181124T095052Z
URL:https://www.rehetobel-tourismus.ch/wp/events/vollmondschwimmen-bis-22-
 uhr-6/
SUMMARY:Vollmondschwimmen bis 22 Uhr
DESCRIPTION:
LOCATION:Schwimmbad\, Hüseren\, Rehetobel\, Schweiz
GEO:47.42744889999999;9.484699200000023
X-APPLE-STRUCTURED-LOCATION;VALUE=URI;X-ADDRESS=Hüseren\, Rehetobel\, Schw
 eiz;X-APPLE-RADIUS=100;X-TITLE=Schwimmbad:geo:47.42744889999999,9.48469920
 0000023
END:VEVENT
BEGIN:VTIMEZONE
TZID:Europe/Zurich
X-LIC-LOCATION:Europe/Zurich
BEGIN:DAYLIGHT
DTSTART:20190331T030000
TZOFFSETFROM:+0100
TZOFFSETTO:+0200
TZNAME:CEST
END:DAYLIGHT
END:VTIMEZONE
END:VCALENDAR