BEGIN:VCALENDAR
VERSION:2.0
PRODID:-//wp-events-plugin.com//7.2.3.1//EN
BEGIN:VEVENT
UID:5351@rehetobel-tourismus.ch
DTSTART;TZID=Europe/Zurich;VALUE=DATE:20260425
DTEND;TZID=Europe/Zurich;VALUE=DATE:20260426
DTSTAMP:20260110T192741Z
URL:https://www.rehetobel-tourismus.ch/wp/events/probenwochenende-mgbb-reh
 etobel-6/
SUMMARY:Probenwochenende MGBB Rehetobel
DESCRIPTION:
LOCATION:Gemeindezentrum Rehetobel\, St. Gallerstrasse 9\, Rehetobel\, Schw
 eiz
GEO:47.4273843;9.482178100000056
X-APPLE-STRUCTURED-LOCATION;VALUE=URI;X-ADDRESS=St. Gallerstrasse 9\, Rehet
 obel\, Schweiz;X-APPLE-RADIUS=100;X-TITLE=Gemeindezentrum Rehetobel:geo:47
 .4273843,9.482178100000056
END:VEVENT
BEGIN:VTIMEZONE
TZID:Europe/Zurich
X-LIC-LOCATION:Europe/Zurich
BEGIN:DAYLIGHT
DTSTART:20260329T030000
TZOFFSETFROM:+0100
TZOFFSETTO:+0200
TZNAME:CEST
END:DAYLIGHT
END:VTIMEZONE
END:VCALENDAR