BEGIN:VCALENDAR
VERSION:2.0
PRODID:-//wp-events-plugin.com//7.2.3.1//EN
BEGIN:VEVENT
UID:4745@rehetobel-tourismus.ch
DTSTART;TZID=Europe/Zurich:20241106T140000
DTEND;TZID=Europe/Zurich:20241106T170000
DTSTAMP:20241022T163712Z
URL:https://www.rehetobel-tourismus.ch/wp/events/jugendtreff-diy-seife/
SUMMARY:Jugendtreff "DIY Seife"
DESCRIPTION:
LOCATION:Jugendraum\, Kirchstrasse 4\, Rehetobel\, 9038\, Schweiz
GEO:47.4265682;9.482454899999993
X-APPLE-STRUCTURED-LOCATION;VALUE=URI;X-ADDRESS=Kirchstrasse 4\, Rehetobel\
 , 9038\, Schweiz;X-APPLE-RADIUS=100;X-TITLE=Jugendraum:geo:47.4265682,9.48
 2454899999993
END:VEVENT
BEGIN:VTIMEZONE
TZID:Europe/Zurich
X-LIC-LOCATION:Europe/Zurich
BEGIN:STANDARD
DTSTART:20241027T020000
TZOFFSETFROM:+0200
TZOFFSETTO:+0100
TZNAME:CET
END:STANDARD
END:VTIMEZONE
END:VCALENDAR