BEGIN:VCALENDAR
VERSION:2.0
PRODID:-//wp-events-plugin.com//7.2.3.1//EN
BEGIN:VEVENT
UID:5516@rehetobel-tourismus.ch
DTSTART;TZID=Europe/Zurich:20261102T183000
DTEND;TZID=Europe/Zurich:20261102T190000
DTSTAMP:20260111T165955Z
URL:https://www.rehetobel-tourismus.ch/wp/events/gruengutsammlung-207/
SUMMARY:Grüngutsammlung
DESCRIPTION:
LOCATION:Wick Naturgarten GmbH\, Buechschwendistrasse 3\, Rehetobel\, 9038\
 , Schweiz
GEO:47.423569;9.480764
X-APPLE-STRUCTURED-LOCATION;VALUE=URI;X-ADDRESS=Buechschwendistrasse 3\, Re
 hetobel\, 9038\, Schweiz;X-APPLE-RADIUS=100;X-TITLE=Wick Naturgarten GmbH:
 geo:47.423569,9.480764
END:VEVENT
BEGIN:VTIMEZONE
TZID:Europe/Zurich
X-LIC-LOCATION:Europe/Zurich
BEGIN:STANDARD
DTSTART:20261025T020000
TZOFFSETFROM:+0200
TZOFFSETTO:+0100
TZNAME:CET
END:STANDARD
END:VTIMEZONE
END:VCALENDAR