BEGIN:VCALENDAR
VERSION:2.0
PRODID:-//wp-events-plugin.com//7.2.3.1//EN
BEGIN:VEVENT
UID:5349@rehetobel-tourismus.ch
DTSTART;TZID=Europe/Zurich:20260425T000000
DTEND;TZID=Europe/Zurich:20260425T000000
DTSTAMP:20260110T192639Z
URL:https://www.rehetobel-tourismus.ch/wp/events/fiire-mit-de-chliine-2/
SUMMARY:"Fiire mit de Chliine"
DESCRIPTION:
LOCATION:Evangelische Kirche\, St. Gallerstrasse 1\, Rehetobel\, Schweiz
GEO:47.4273079;9.482781299999942
X-APPLE-STRUCTURED-LOCATION;VALUE=URI;X-ADDRESS=St. Gallerstrasse 1\, Rehet
 obel\, Schweiz;X-APPLE-RADIUS=100;X-TITLE=Evangelische Kirche:geo:47.42730
 79,9.482781299999942
END:VEVENT
BEGIN:VTIMEZONE
TZID:Europe/Zurich
X-LIC-LOCATION:Europe/Zurich
BEGIN:DAYLIGHT
DTSTART:20260329T030000
TZOFFSETFROM:+0100
TZOFFSETTO:+0200
TZNAME:CEST
END:DAYLIGHT
END:VTIMEZONE
END:VCALENDAR