BEGIN:VCALENDAR
VERSION:2.0
PRODID:-//wp-events-plugin.com//7.2.3.1//EN
BEGIN:VEVENT
UID:4559@rehetobel-tourismus.ch
DTSTART;TZID=Europe/Zurich;VALUE=DATE:20241101
DTEND;TZID=Europe/Zurich;VALUE=DATE:20241104
DTSTAMP:20231219T141811Z
URL:https://www.rehetobel-tourismus.ch/wp/events/ediths-wildspezialitaeten
 /
SUMMARY:Edith's Wildspezialitäten
DESCRIPTION:
LOCATION:Naturfreundehaus Kaien\, Naturfreundehaus\, Grub AR\, Schweiz
GEO:47.4342906;9.50665600000002
X-APPLE-STRUCTURED-LOCATION;VALUE=URI;X-ADDRESS=Naturfreundehaus\, Grub AR\
 , Schweiz;X-APPLE-RADIUS=100;X-TITLE=Naturfreundehaus Kaien:geo:47.4342906
 ,9.50665600000002
END:VEVENT
BEGIN:VTIMEZONE
TZID:Europe/Zurich
X-LIC-LOCATION:Europe/Zurich
BEGIN:STANDARD
DTSTART:20241027T020000
TZOFFSETFROM:+0200
TZOFFSETTO:+0100
TZNAME:CET
END:STANDARD
END:VTIMEZONE
END:VCALENDAR